BEGIN:VCALENDAR
VERSION:2.0
PRODID:-//Institute of Education (IOE) AUCA - ECPv6.15.17.1//NONSGML v1.0//EN
CALSCALE:GREGORIAN
METHOD:PUBLISH
X-WR-CALNAME:Institute of Education (IOE) AUCA
X-ORIGINAL-URL:https://ioe.auca.kg
X-WR-CALDESC:Events for Institute of Education (IOE) AUCA
REFRESH-INTERVAL;VALUE=DURATION:PT1H
X-Robots-Tag:noindex
X-PUBLISHED-TTL:PT1H
BEGIN:VTIMEZONE
TZID:UTC
BEGIN:STANDARD
TZOFFSETFROM:+0000
TZOFFSETTO:+0000
TZNAME:UTC
DTSTART:20220101T000000
END:STANDARD
END:VTIMEZONE
BEGIN:VEVENT
DTSTART;VALUE=DATE:20231106
DTEND;VALUE=DATE:20231110
DTSTAMP:20260422T191315
CREATED:20231105T165144Z
LAST-MODIFIED:20231105T170422Z
UID:5883-1699228800-1699574399@ioe.auca.kg
SUMMARY:Education Intensive week for Cohort 2023
DESCRIPTION:We are excited to announce Education Intensive week that will take place Nov.6-9.
URL:https://ioe.auca.kg/event/education-intensive-week-for-cohort-2023/
LOCATION:AUCA campus\, 7/6 Aaly Tokombaev Street\, Bishkek\, 720060\, Kyrgyzstan
CATEGORIES:MAT
ATTACH;FMTTYPE=image/jpeg:https://ioe.auca.kg/wp-content/uploads/2023/11/376A3598-scaled.jpg
END:VEVENT
END:VCALENDAR